BEGIN:VCALENDAR
VERSION:2.0
PRODID:-//Contratero//ES
CALSCALE:GREGORIAN
METHOD:PUBLISH
BEGIN:VEVENT
UID:19 055 SR JD AB UE21@contratero.es
DTSTAMP:20260424T044223Z
DTSTART:20200827T235959
DTEND:20200828T005959
SUMMARY:Cierre: Contratación de los servicios de SOC Corporativo d
DESCRIPTION:Contratación de los servicios de SOC Corporativo del Gobierno de Canarias\\n\\nOrganismo: Viceconsejería de Administraciones Públicas y Transparencia\\n\\nVer en Contratero: https://contratero.es/contracts/19 055 SR JD AB UE21
URL:https://contratero.es/contracts/19 055 SR JD AB UE21
STATUS:CONFIRMED
BEGIN:VALARM
TRIGGER:-P1D
ACTION:DISPLAY
DESCRIPTION:Recordatorio: Contratación de los servicios 
END:VALARM
END:VEVENT
END:VCALENDAR